BEGIN:VCALENDAR
VERSION:2.0
PRODID:-//Create Austin - ECPv6.15.18//NONSGML v1.0//EN
CALSCALE:GREGORIAN
METHOD:PUBLISH
X-ORIGINAL-URL:https://createaustin.org
X-WR-CALDESC:Events for Create Austin
REFRESH-INTERVAL;VALUE=DURATION:PT1H
X-Robots-Tag:noindex
X-PUBLISHED-TTL:PT1H
BEGIN:VTIMEZONE
TZID:America/New_York
BEGIN:DAYLIGHT
TZOFFSETFROM:-0500
TZOFFSETTO:-0400
TZNAME:EDT
DTSTART:20230312T070000
END:DAYLIGHT
BEGIN:STANDARD
TZOFFSETFROM:-0400
TZOFFSETTO:-0500
TZNAME:EST
DTSTART:20231105T060000
END:STANDARD
BEGIN:DAYLIGHT
TZOFFSETFROM:-0500
TZOFFSETTO:-0400
TZNAME:EDT
DTSTART:20240310T070000
END:DAYLIGHT
BEGIN:STANDARD
TZOFFSETFROM:-0400
TZOFFSETTO:-0500
TZNAME:EST
DTSTART:20241103T060000
END:STANDARD
BEGIN:DAYLIGHT
TZOFFSETFROM:-0500
TZOFFSETTO:-0400
TZNAME:EDT
DTSTART:20250309T070000
END:DAYLIGHT
BEGIN:STANDARD
TZOFFSETFROM:-0400
TZOFFSETTO:-0500
TZNAME:EST
DTSTART:20251102T060000
END:STANDARD
END:VTIMEZONE
BEGIN:VEVENT
DTSTART;TZID=America/New_York:20240323T193000
DTEND;TZID=America/New_York:20240323T213000
DTSTAMP:20260420T073548
CREATED:20240321T195440Z
LAST-MODIFIED:20240328T160553Z
UID:10000554-1711222200-1711229400@createaustin.org
SUMMARY:Un Cuento de Luces y Sombras (A Tale of Lights and Shadows)
DESCRIPTION:Un Cuento de Luces y Sombras (A Tale of Lights and Shadows) is an operetta in three acts\, compuesta par Carlos Cordero with libretto by Germán Barboza\, about the fight between two reigns: the reign of lights and the reign of shadows. Kira\, the queen of light\, is in a war against Sombras\, the king of shadows\, while Zara and Adrik -their heirs- fall deeply in love defying the rules set by Zola –dame of the Earth- that dictated that no one from the two worlds can meet with each other. That’s the way things are supposed to be\, or at least how they thought it was best. \nUn Cuento de Luces y Sombras es una opereta en tres actos\, composed by Carlos Cordero con libreto de Germán Barboza\,sobre la pelea entre dos reinos: el reino de la luz y el reino de las sombras. Kira\, la reina de la luz\, está en guerra con Sombras\, rey de las sombras\, mientras Zara y Adrik -los herederos- se enamoran desafiando las reglas puestas por Zola -dama de la Tierra- que dictan que nadie del otro lado del mundo puede reunirse. \nHappens on the following Dates:\nMar 22\, 2024\, 7:30pm to 9:30pm Timezone: CDT\nMar 23\, 2024\, 2:30pm to 4:30pm Timezone: CDT\nMar 23\, 2024\, 7:30pm to 9:30pm Timezone: CDT
URL:https://createaustin.org/event/un-cuento-de-luces-y-sombras-a-tale-of-lights-and-shadows/2024-03-23/
LOCATION:Ground Floor Theatre\, 979 Springdale Rd\, Ste 122\, Austin\, TX\, 78702\, United States
CATEGORIES:Austin Live Music Fund
ATTACH;FMTTYPE=image/jpeg:https://createaustin.org/wp-content/uploads/2024/03/63118_6C02FE6D-B739-B4AA-E612FD9D1348336C_6c08db0b-bba7-8ded-2f6e385d7b26dfe8.jpg
GEO:30.2632895078;-97.6956997551
X-APPLE-STRUCTURED-LOCATION;VALUE=URI;X-ADDRESS=Ground Floor Theatre 979 Springdale Rd Ste 122 Austin TX 78702 United States;X-APPLE-RADIUS=500;X-TITLE=979 Springdale Rd\, Ste 122:geo:-97.6956997551,30.2632895078
END:VEVENT
BEGIN:VEVENT
DTSTART;TZID=America/New_York:20240322T193000
DTEND;TZID=America/New_York:20240322T213000
DTSTAMP:20260420T073548
CREATED:20240321T195440Z
LAST-MODIFIED:20240328T160553Z
UID:10000553-1711135800-1711143000@createaustin.org
SUMMARY:Un Cuento de Luces y Sombras (A Tale of Lights and Shadows)
DESCRIPTION:Un Cuento de Luces y Sombras (A Tale of Lights and Shadows) is an operetta in three acts\, compuesta par Carlos Cordero with libretto by Germán Barboza\, about the fight between two reigns: the reign of lights and the reign of shadows. Kira\, the queen of light\, is in a war against Sombras\, the king of shadows\, while Zara and Adrik -their heirs- fall deeply in love defying the rules set by Zola –dame of the Earth- that dictated that no one from the two worlds can meet with each other. That’s the way things are supposed to be\, or at least how they thought it was best. \nUn Cuento de Luces y Sombras es una opereta en tres actos\, composed by Carlos Cordero con libreto de Germán Barboza\,sobre la pelea entre dos reinos: el reino de la luz y el reino de las sombras. Kira\, la reina de la luz\, está en guerra con Sombras\, rey de las sombras\, mientras Zara y Adrik -los herederos- se enamoran desafiando las reglas puestas por Zola -dama de la Tierra- que dictan que nadie del otro lado del mundo puede reunirse. \nHappens on the following Dates:\nMar 22\, 2024\, 7:30pm to 9:30pm Timezone: CDT\nMar 23\, 2024\, 2:30pm to 4:30pm Timezone: CDT\nMar 23\, 2024\, 7:30pm to 9:30pm Timezone: CDT
URL:https://createaustin.org/event/un-cuento-de-luces-y-sombras-a-tale-of-lights-and-shadows/2024-03-22/
LOCATION:Ground Floor Theatre\, 979 Springdale Rd\, Ste 122\, Austin\, TX\, 78702\, United States
CATEGORIES:Austin Live Music Fund
ATTACH;FMTTYPE=image/jpeg:https://createaustin.org/wp-content/uploads/2024/03/63118_6C02FE6D-B739-B4AA-E612FD9D1348336C_6c08db0b-bba7-8ded-2f6e385d7b26dfe8.jpg
GEO:30.2632895078;-97.6956997551
X-APPLE-STRUCTURED-LOCATION;VALUE=URI;X-ADDRESS=Ground Floor Theatre 979 Springdale Rd Ste 122 Austin TX 78702 United States;X-APPLE-RADIUS=500;X-TITLE=979 Springdale Rd\, Ste 122:geo:-97.6956997551,30.2632895078
END:VEVENT
END:VCALENDAR