BEGIN:VCALENDAR
VERSION:2.0
PRODID:-//Create Austin - ECPv6.15.18//NONSGML v1.0//EN
CALSCALE:GREGORIAN
METHOD:PUBLISH
X-ORIGINAL-URL:https://createaustin.org
X-WR-CALDESC:Events for Create Austin
REFRESH-INTERVAL;VALUE=DURATION:PT1H
X-Robots-Tag:noindex
X-PUBLISHED-TTL:PT1H
BEGIN:VTIMEZONE
TZID:America/New_York
BEGIN:DAYLIGHT
TZOFFSETFROM:-0500
TZOFFSETTO:-0400
TZNAME:EDT
DTSTART:20240310T070000
END:DAYLIGHT
BEGIN:STANDARD
TZOFFSETFROM:-0400
TZOFFSETTO:-0500
TZNAME:EST
DTSTART:20241103T060000
END:STANDARD
BEGIN:DAYLIGHT
TZOFFSETFROM:-0500
TZOFFSETTO:-0400
TZNAME:EDT
DTSTART:20250309T070000
END:DAYLIGHT
BEGIN:STANDARD
TZOFFSETFROM:-0400
TZOFFSETTO:-0500
TZNAME:EST
DTSTART:20251102T060000
END:STANDARD
BEGIN:DAYLIGHT
TZOFFSETFROM:-0500
TZOFFSETTO:-0400
TZNAME:EDT
DTSTART:20260308T070000
END:DAYLIGHT
BEGIN:STANDARD
TZOFFSETFROM:-0400
TZOFFSETTO:-0500
TZNAME:EST
DTSTART:20261101T060000
END:STANDARD
END:VTIMEZONE
BEGIN:VEVENT
DTSTART;TZID=America/New_York:20250524T170000
DTEND;TZID=America/New_York:20250524T220000
DTSTAMP:20260420T072400
CREATED:20250521T200316Z
LAST-MODIFIED:20250521T200316Z
UID:10007781-1748106000-1748124000@createaustin.org
SUMMARY:Dog Days
DESCRIPTION:DORF invites you to join us for the opening reception for ‘Dog Days’\, a summer group exhibition exploring the deep\, complex\, and often healing bond between humans and their canine companions. Selected through an open call\, the exhibition features over 20 local and regional artists whose work celebrates the role of dogs in our lives—as loyal friends\, symbolic figures\, protectors\, muses\, and sources of joy and grief. \nWhile the term “dog days” historically referred to a season of heat\, unrest\, and misfortune in ancient Roman and Greek calendars\, this show reclaims the phrase with a different perspective: that in a time of global uncertainty and rising temperatures\, the steady\, loving presence of a dog can be a grounding force—a source of comfort\, stability\, and meaning. \nCurated by DORF founders Sara Vanderbeek and Eric Manche\, Dog Days is also a personal tribute to their beloved dog Lu\, who spent 14 years as their cherished companion before returning to the cosmos in 2022. The exhibition invites viewers to reflect on the emotional roles dogs play in our lives—how they rescue us\, stay with us\, and reflect our own humanity back to us in quiet and profound ways. \n🐕‍🦺 Puppy and dog adoptions with the Austin Humane Society \n🖌 Live dog portrait painting by Ami Plasse – RSVP signup coming soon! \n🎧 Doggy dance party with DJ Dana Scully (Queer Vinyl Collective) \n🐾 Leashed\, friendly pups welcome!
URL:https://createaustin.org/event/dog-days/
LOCATION:DORF\, 218 South Lamar Blvd\, Suite 140\, Austin\, Texas\, 78745
CATEGORIES:Elevate Grant
ATTACH;FMTTYPE=image/jpeg:https://createaustin.org/wp-content/uploads/2025/05/Victor-Lee-Cigarettes-and-Chocolate-2023-Oil-on-Canvas-30_-x-40__5DD78FE7-C258-E177-BC73B7121A169158_5e0a2bac-03ee-41fc-eb8fcaef8f3964c2.jpg
END:VEVENT
END:VCALENDAR